BEGIN:VCALENDAR
VERSION:2.0
PRODID:-//https://association-lapostrophe.fr///NONSGML kigkonsult.se iCalcreator 2.10.15//
METHOD:PUBLISH
BEGIN:VEVENT
UID:20260424T034753CEST-0953pINNxb@https://association-lapostrophe.fr/
DTSTAMP:20260424T014753Z
DESCRIPTION: https://association-lapostrophe.fr/evenements/activites-divers
 es/evenement/317-dictee
DTSTART:20250304T130000Z
DTEND:20250304T163000Z
LOCATION:CMA La Treille (Impasse Gérard Paradisio 13011)
SUMMARY:Dictée
URL:https://association-lapostrophe.fr/evenements/activites-diverses/evenem
 ent/317-dictee
END:VEVENT
BEGIN:VEVENT
UID:20260424T034753CEST-0954mDAapA@https://association-lapostrophe.fr/
DTSTAMP:20260424T014753Z
DESCRIPTION: https://association-lapostrophe.fr/evenements/activites-divers
 es/evenement/325-dictee
DTSTART:20250511T220000Z
DTEND:20250511T220100Z
LOCATION:CMA de Saint Barnabé 13012 ()
SUMMARY:Dictée
URL:https://association-lapostrophe.fr/evenements/activites-diverses/evenem
 ent/325-dictee
END:VEVENT
BEGIN:VEVENT
UID:20260424T034753CEST-09554u5mu9@https://association-lapostrophe.fr/
DTSTAMP:20260424T014753Z
DESCRIPTION:Bonjour à toutes et à tous\nCi-joint (bas de cette page) la fic
 he d' inscription pour notre soirée anniversaire du SAMEDI 21 JUIN 2025.\n
 Si vous souhaitez y participer\, merci vous inscrire par mail retour auprè
 s de Nouche en précisant si\n\nRepas-apéro-spectacle\n\nOù\n\nApéro-specta
 cle uniquement\n\nEn ce qui concerne le règlement vous aurez deux possibil
 ités soit faire :\n\nUn virement sur le compte de l’Apostrophe (coordonnée
 s à me demander)\n\nOù\n\nUn chèque à l’ordre de l’apostrophe à remettre l
 e jour de l’anniversaire\n\nNous organisons pour cet événement une tombola
  \,ci-joint le détail \,vous aurez la possibilité d’acheter les billets su
 r place le samedi 21 juin 2025  le tirage aura lieu le soir même :\n \nPri
 x du billet : 3 €1er lot :    1 Gratuité sortie aux Carrières de Lumières2
 ème lot : 1 Foulard peinture sur soie3ème lot : 1 livre « Mers et Océans »
 4ème lot : 1 livre « Aix-En-Provence »5ème lot : 1 livre « Thaïlande »6ème
  lot : 1 livre « L’Ame de l’Afrique «7ème lot : 1 livre « Déserts «8ème lo
 t : 1 livre « Éthiopie »\n \nBonne réception\nCordialement\nNouche\n\nMail
  : a.felds@outlok.fr\nTéléphone : 06 19 03 66 41\n https://association-lap
 ostrophe.fr/evenements/activites-diverses/evenement/336-soiree-18eme-anniv
 ersaire-de-lassociation
DTSTART:20250621T140000Z
DTEND:20250621T200000Z
LOCATION:C.M.A.  de la Valbarelle (93 Boulevard de la Valbarelle\, 13011\, 
 11e Arrondissement\, Marseille\, Bouches-du-Rhône\, Provence-Alpes-Côte d'
 Azur)
SUMMARY:Soirée 18ème anniversaire de l'Association
URL:https://association-lapostrophe.fr/evenements/activites-diverses/evenem
 ent/336-soiree-18eme-anniversaire-de-lassociation
END:VEVENT
BEGIN:VEVENT
UID:20260424T034753CEST-0957e06lNG@https://association-lapostrophe.fr/
DTSTAMP:20260424T014753Z
DESCRIPTION: https://association-lapostrophe.fr/evenements/activites-divers
 es/evenement/353-dictee-au-cma-st-barnabe
DTSTART:20251112T230000Z
DTEND:20251112T230100Z
LOCATION:CMA de Saint Barnabé 13012 ()
SUMMARY:Dictée au CMA St. Barnabé
URL:https://association-lapostrophe.fr/evenements/activites-diverses/evenem
 ent/353-dictee-au-cma-st-barnabe
END:VEVENT
BEGIN:VEVENT
UID:20260424T034753CEST-0958I47HUH@https://association-lapostrophe.fr/
DTSTAMP:20260424T014753Z
DESCRIPTION:En partenariat avec la Mairie des 11 et 12ème https://associati
 on-lapostrophe.fr/evenements/activites-diverses/evenement/354-championnat-
 dorthographe
DTSTART:20251115T130000Z
DTEND:20251115T160000Z
LOCATION:C.M.A.  de la Valbarelle (93 Boulevard de la Valbarelle\, 13011\, 
 11e Arrondissement\, Marseille\, Bouches-du-Rhône\, Provence-Alpes-Côte d'
 Azur)
SUMMARY:Championnat d'Orthographe
URL:https://association-lapostrophe.fr/evenements/activites-diverses/evenem
 ent/354-championnat-dorthographe
END:VEVENT
BEGIN:VEVENT
UID:20260424T034753CEST-0959XzDo0V@https://association-lapostrophe.fr/
DTSTAMP:20260424T014753Z
DESCRIPTION:Bonjour à toutes et à tous\nEn fichier joint en bas de cette pa
 ge\, la fiche d’inscription imprimable  pour notre fête de fin d’année fix
 ée au :\nDIMANCHE 14 DECEMBRE 2025 à partir de 12H au CMA la Valbarelle \n
 Si vous souhaitez y participer veuillez m’en informer par mail retour ou p
 ar téléphone avant le10 décembre 2025 en précisant :\n\nREPAS + SPECTACLE
 \n\nOù\n\nSPECTACLE UNIQUEMENT \n\nVous noterez une large participation de
  l’apostrophe dans la continuité de « ses 18 ANS »\nLes chèques seront rem
 is à l’arrivée des participants le dimanche 14/12/2025\nVous pouvez égalem
 ent régler par virement\, demandez moi les coordonnées de l’Apostrophe\nCo
 rdialement\nNouche\nTél : 06 19 03 66 41\nMail : a.fields@outlook.fr https
 ://association-lapostrophe.fr/evenements/activites-diverses/evenement/360-
 repas-de-noel
DTSTART:20251214T110000Z
DTEND:20251214T190000Z
LOCATION:C.M.A.  de la Valbarelle (93 Boulevard de la Valbarelle\, 13011\, 
 11e Arrondissement\, Marseille\, Bouches-du-Rhône\, Provence-Alpes-Côte d'
 Azur)
SUMMARY:Repas de Noêl
URL:https://association-lapostrophe.fr/evenements/activites-diverses/evenem
 ent/360-repas-de-noel
END:VEVENT
BEGIN:VEVENT
UID:20260424T034753CEST-0960nx97DX@https://association-lapostrophe.fr/
DTSTAMP:20260424T014753Z
DESCRIPTION: https://association-lapostrophe.fr/evenements/activites-divers
 es/evenement/366-assemblee-generale
DTSTART:20260113T130000Z
DTEND:20260113T160000Z
LOCATION:Maison de Quartier Le FLORIDA (1 Boulevard Auguste Comte\, 13010\,
  10e Arrondissement\, Marseille\, Bouches-du-Rhône\, Provence-Alpes-Côte d
 'Azur)
SUMMARY:Assemblée Générale
URL:https://association-lapostrophe.fr/evenements/activites-diverses/evenem
 ent/366-assemblee-generale
END:VEVENT
BEGIN:VEVENT
UID:20260424T034753CEST-0961oNw665@https://association-lapostrophe.fr/
DTSTAMP:20260424T014753Z
DESCRIPTION: https://association-lapostrophe.fr/evenements/activites-divers
 es/evenement/369-dictee
DTSTART:20260122T130000Z
DTEND:20260122T163000Z
LOCATION:CMA de Saint Barnabé 13012 ()
SUMMARY:Dictée
URL:https://association-lapostrophe.fr/evenements/activites-diverses/evenem
 ent/369-dictee
END:VEVENT
BEGIN:VEVENT
UID:20260424T034753CEST-0962WoU7B0@https://association-lapostrophe.fr/
DTSTAMP:20260424T014753Z
DESCRIPTION: https://association-lapostrophe.fr/evenements/activites-divers
 es/evenement/390-dictee-au-cma-st-barnabe
DTSTART:20260422T220000Z
DTEND:20260422T220100Z
LOCATION:CMA de Saint Barnabé 13012 ()
SUMMARY:Dictée au CMA St. Barnabé
URL:https://association-lapostrophe.fr/evenements/activites-diverses/evenem
 ent/390-dictee-au-cma-st-barnabe
END:VEVENT
BEGIN:VEVENT
UID:20260424T034753CEST-0962F3vClG@https://association-lapostrophe.fr/
DTSTAMP:20260424T014753Z
DESCRIPTION: https://association-lapostrophe.fr/evenements/activites-divers
 es/evenement/399-soiree-19eme-anniversaire-de-lassociation
DTSTART:20260620T140000Z
DTEND:20260620T200000Z
LOCATION:C.M.A.  de la Valbarelle (93 Boulevard de la Valbarelle\, 13011\, 
 11e Arrondissement\, Marseille\, Bouches-du-Rhône\, Provence-Alpes-Côte d'
 Azur)
SUMMARY:Soirée 19ème Anniversaire de l'Association
URL:https://association-lapostrophe.fr/evenements/activites-diverses/evenem
 ent/399-soiree-19eme-anniversaire-de-lassociation
END:VEVENT
END:VCALENDAR
