BEGIN:VCALENDAR
VERSION:2.0
PRODID:-//https://association-lapostrophe.fr///NONSGML kigkonsult.se iCalcreator 2.10.15//
METHOD:PUBLISH
BEGIN:VEVENT
UID:20260420T024229CEST-419779VGhw@https://association-lapostrophe.fr/
DTSTAMP:20260420T004229Z
DESCRIPTION: https://association-lapostrophe.fr/component/rseventspro/evene
 ment/382-conference-francis-jammes?Itemid=101
DTSTART:20260317T130000Z
DTEND:20260317T160000Z
LOCATION:Espace Séniors Le Florian (197 Boulevard de Pont-de-Vivaux\, 13010
 \, MARSEILLE)
SUMMARY:Conférence : ' Francis Jammes '
URL:https://association-lapostrophe.fr/component/rseventspro/evenement/382-
 conference-francis-jammes?Itemid=101
END:VEVENT
END:VCALENDAR
