BEGIN:VCALENDAR
VERSION:2.0
PRODID:-//https://association-lapostrophe.fr///NONSGML kigkonsult.se iCalcreator 2.10.15//
METHOD:PUBLISH
BEGIN:VEVENT
UID:20260421T102949CEST-1984esEJJX@https://association-lapostrophe.fr/
DTSTAMP:20260421T082949Z
DESCRIPTION: https://association-lapostrophe.fr/component/rseventspro/evene
 ment/120-conference-charles-baudelaire?Itemid=101
DTSTART:20220615T201700Z
DTEND:20220615T211700Z
LOCATION:Espace Séniors Le Florian (197 Boulevard de Pont-de-Vivaux\, 13010
 \, MARSEILLE)
SUMMARY:Conférence Charles Baudelaire
URL:https://association-lapostrophe.fr/component/rseventspro/evenement/120-
 conference-charles-baudelaire?Itemid=101
END:VEVENT
END:VCALENDAR
